BEGIN:VCALENDAR
VERSION:2.0
PRODID:-//Tukios.com/
BEGIN:VEVENT
UID:a09d4701-10e3-4312-acf5-65ed0c1f84d2@www.gilbertsonfh.com
DTSTAMP:20260421T023411Z
DTSTART:20260509T220000Z
DTEND:20260509T230000Z
SUMMARY:Celebration of Life
DESCRIPTION:
URL:https://www.gilbertsonfh.com/obituaries/marcus-irwin
LOCATION: 1243 Beach Dr  Camano Island WA 98282
GEO:48.1661244;-122.4759046
END:VEVENT
END:VCALENDAR