BEGIN:VCALENDAR
VERSION:2.0
PRODID:-//Tukios.com/
BEGIN:VEVENT
UID:c3bb657b-0365-4c57-afc8-0e40e0402015@www.gilbertsonfh.com
DTSTAMP:20260421T201414Z
DTSTART:20260501T200000Z
DTEND:20260501T210000Z
SUMMARY:Memorial Service
DESCRIPTION:
URL:https://www.gilbertsonfh.com/obituaries/joel-thorson
LOCATION: 27001 88th Ave NW  Stanwood WA 98292
GEO:48.2416162;-122.3517384
END:VEVENT
END:VCALENDAR